

BEGIN:VCALENDAR
VERSION:2.0
PRODID:-//UDC Suisse //NONSGML Events //EN
CALSCALE:GREGORIAN
X-WR-CALNAME:UDC Suisse
BEGIN:VEVENT
CREATED:20170918T085745Z
UID:8749
DTEND:20180606T000000
DTSTART:20180606T000000
DTSTAMP:20260423T090657Z
LOCATION:
DESCRIPTION:
SUMMARY:Excursion du groupe
ORGANIZER:
URL;VALUE=URI:https://www.udc.ch/actualites/agenda/excursion-du-groupe-3/
TRANSP:OPAQUE
END:VEVENT
END:VCALENDAR
