

BEGIN:VCALENDAR
VERSION:2.0
PRODID:-//UDC Suisse //NONSGML Events //EN
CALSCALE:GREGORIAN
X-WR-CALNAME:UDC Suisse
BEGIN:VEVENT
CREATED:20170918T085820Z
UID:8751
DTEND:20180610T000000
DTSTART:20180610T000000
DTSTAMP:20260421T080045Z
LOCATION:
DESCRIPTION:
SUMMARY:Votations fédérales du 10 juin 2018
ORGANIZER:
URL;VALUE=URI:https://www.udc.ch/actualites/agenda/votations-federales-9/
TRANSP:OPAQUE
END:VEVENT
END:VCALENDAR
