

BEGIN:VCALENDAR
VERSION:2.0
PRODID:-//UDC Suisse //NONSGML Events //EN
CALSCALE:GREGORIAN
X-WR-CALNAME:UDC Suisse
BEGIN:VEVENT
CREATED:20170918T090002Z
UID:8757
DTEND:20180623T000000
DTSTART:20180623T000000
DTSTAMP:20260420T153014Z
LOCATION:
DESCRIPTION:
SUMMARY:Assemblée des délégués
ORGANIZER:
URL;VALUE=URI:https://www.udc.ch/actualites/agenda/assemblee-des-delegues-20/
TRANSP:OPAQUE
END:VEVENT
END:VCALENDAR
