

BEGIN:VCALENDAR
VERSION:2.0
PRODID:-//UDC Suisse //NONSGML Events //EN
CALSCALE:GREGORIAN
X-WR-CALNAME:UDC Suisse
BEGIN:VEVENT
CREATED:20170918T090155Z
UID:8759
DTEND:20180810T000000
DTSTART:20180810T000000
DTSTAMP:20260420T152944Z
LOCATION:Visp
DESCRIPTION:
SUMMARY:Assemblée générale UDC International
ORGANIZER:
URL;VALUE=URI:https://www.udc.ch/actualites/agenda/ag-udc-international-3/
TRANSP:OPAQUE
END:VEVENT
END:VCALENDAR
