

BEGIN:VCALENDAR
VERSION:2.0
PRODID:-//UDC Suisse //NONSGML Events //EN
CALSCALE:GREGORIAN
X-WR-CALNAME:UDC Suisse
BEGIN:VEVENT
CREATED:20170918T090357Z
UID:8761
DTEND:20180812T000000
DTSTART:20180810T000000
DTSTAMP:20260421T094320Z
LOCATION:Visp
DESCRIPTION:
SUMMARY:Congrès des Suisses de l&rsquo\;étranger
ORGANIZER:
URL;VALUE=URI:https://www.udc.ch/actualites/agenda/congres-des-suisses-de-letranger-3/
TRANSP:OPAQUE
END:VEVENT
END:VCALENDAR
