

BEGIN:VCALENDAR
VERSION:2.0
PRODID:-//UDC Suisse //NONSGML Events //EN
CALSCALE:GREGORIAN
X-WR-CALNAME:UDC Suisse
BEGIN:VEVENT
CREATED:20170918T091825Z
UID:8782
DTEND:20180923T000000
DTSTART:20180923T000000
DTSTAMP:20260420T193559Z
LOCATION:
DESCRIPTION:
SUMMARY:Votations fédérales du 23 septembre 2018
ORGANIZER:
URL;VALUE=URI:https://www.udc.ch/actualites/agenda/votations-federales-10/
TRANSP:OPAQUE
END:VEVENT
END:VCALENDAR
