

BEGIN:VCALENDAR
VERSION:2.0
PRODID:-//UDC Suisse //NONSGML Events //EN
CALSCALE:GREGORIAN
X-WR-CALNAME:UDC Suisse
BEGIN:VEVENT
CREATED:20170918T091952Z
UID:8786
DTEND:20181026T000000
DTSTART:20181026T000000
DTSTAMP:20260420T214419Z
LOCATION:
DESCRIPTION:
SUMMARY:Comité directeur / Comité du parti avec secrétaires cantonaux
ORGANIZER:
URL;VALUE=URI:https://www.udc.ch/actualites/agenda/comite-directeur-comite-du-parti-avec-secretaires-cantonaux-5/
TRANSP:OPAQUE
END:VEVENT
END:VCALENDAR
