

BEGIN:VCALENDAR
VERSION:2.0
PRODID:-//UDC Suisse //NONSGML Events //EN
CALSCALE:GREGORIAN
X-WR-CALNAME:UDC Suisse
BEGIN:VEVENT
CREATED:20170918T092044Z
UID:8788
DTEND:20181027T000000
DTSTART:20181027T000000
DTSTAMP:20260420T190335Z
LOCATION:Sportzentrum Gries\, Usterstrasse 35\, 8604 Volketswil
DESCRIPTION:
SUMMARY:Assemblée des délégués
ORGANIZER:
URL;VALUE=URI:https://www.udc.ch/actualites/agenda/assemblee-des-delegues-22/
TRANSP:OPAQUE
END:VEVENT
END:VCALENDAR
