

BEGIN:VCALENDAR
VERSION:2.0
PRODID:-//UDC Suisse //NONSGML Events //EN
CALSCALE:GREGORIAN
X-WR-CALNAME:UDC Suisse
BEGIN:VEVENT
CREATED:20191002T141132Z
UID:92140
DTEND:20191008T200000
DTSTART:20191008T195900
DTSTAMP:20260423T090737Z
LOCATION:Caveau sous l'ancien collège\, Route du village 2\, 1587 Constantine
DESCRIPTION:
SUMMARY:Rapport de session avec Glauser Alice\, Grin Jean-Pierre\, Buffat Michael et Nicolet Jaques
ORGANIZER:
URL;VALUE=URI:https://www.udc.ch/actualites/agenda/rapport-de-session-avec-glauser-alice-grin-jean-pierre-buffat-michael-et-nicolet-jaques/
TRANSP:OPAQUE
END:VEVENT
END:VCALENDAR
