

BEGIN:VCALENDAR
VERSION:2.0
PRODID:-//UDC Suisse //NONSGML Events //EN
CALSCALE:GREGORIAN
X-WR-CALNAME:UDC Suisse
BEGIN:VEVENT
CREATED:20191217T082324Z
UID:92613
DTEND:20200107T200000
DTSTART:20200107T193000
DTSTAMP:20260421T112921Z
LOCATION:Arc-en-Sins SA\, Route du Verney 19\, 1070 Puidoux
DESCRIPTION:
SUMMARY:Rapport de session avec Grin Jean-Pierre\, Buffat Michael et Nicolet Jaques
ORGANIZER:
URL;VALUE=URI:https://www.udc.ch/actualites/agenda/rapport-de-session-avec-glauser-alice-grin-jean-pierre-buffat-michael-et-nicolet-jaques-2/
TRANSP:OPAQUE
END:VEVENT
END:VCALENDAR
