

BEGIN:VCALENDAR
VERSION:2.0
PRODID:-//UDC Suisse //NONSGML Events //EN
CALSCALE:GREGORIAN
X-WR-CALNAME:UDC Suisse
BEGIN:VEVENT
CREATED:20191217T132453Z
UID:92615
DTEND:20191222T120000
DTSTART:20191222T110000
DTSTAMP:20260421T042714Z
LOCATION:Font (FR)\, Restaurant du village
DESCRIPTION:
SUMMARY:Rapport de session avec Pierre-André Page
ORGANIZER:
URL;VALUE=URI:https://www.udc.ch/actualites/agenda/rapport-de-session-avec-glauser-alice-grin-jean-pierre-buffat-michael-et-nicolet-jaques-2-2/
TRANSP:OPAQUE
END:VEVENT
END:VCALENDAR
