

BEGIN:VCALENDAR
VERSION:2.0
PRODID:-//UDC Suisse //NONSGML Events //EN
CALSCALE:GREGORIAN
X-WR-CALNAME:UDC Suisse
BEGIN:VEVENT
CREATED:20200219T075729Z
UID:92966
DTEND:20200228T190000
DTSTART:20200228T183000
DTSTAMP:20260420T230208Z
LOCATION:Grande salle de la Rebatte \, à Chézard-St-Martin
DESCRIPTION:2020-Annonce presse Fondue 28.02.20_final
SUMMARY:Conférence publique de CN Roger Köppel : « Du chemin de la Suisse en Europe. »
ORGANIZER:UDC du canton de Neuchâtel
URL;VALUE=URI:https://www.udc.ch/actualites/agenda/conference-publique-de-cn-roger-koppel-du-chemin-de-la-suisse-en-europe/
TRANSP:OPAQUE
END:VEVENT
END:VCALENDAR
