

BEGIN:VCALENDAR
VERSION:2.0
PRODID:-//UDC Suisse //NONSGML Events //EN
CALSCALE:GREGORIAN
X-WR-CALNAME:UDC Suisse
BEGIN:VEVENT
CREATED:20200728T062151Z
UID:93662
DTEND:20200801T000000
DTSTART:20200801T000000
DTSTAMP:20260421T023839Z
LOCATION:Grisons
DESCRIPTION:01.08 Brunch à la Fondation Plankis à Coire (GR) 01.08 Discours é C
SUMMARY:1er août 2020 avec Conseil fédéral Guy Parmelin
ORGANIZER:
URL;VALUE=URI:https://www.udc.ch/actualites/agenda/1er-aout-2020-avec-conseil-federal-guy-parmelin/
TRANSP:OPAQUE
END:VEVENT
END:VCALENDAR
