

BEGIN:VCALENDAR
VERSION:2.0
PRODID:-//UDC Suisse //NONSGML Events //EN
CALSCALE:GREGORIAN
X-WR-CALNAME:UDC Suisse
BEGIN:VEVENT
CREATED:20200807T060408Z
UID:93766
DTEND:20200824T200000
DTSTART:20200824T193000
DTSTAMP:20260421T042318Z
LOCATION:à Chamason\, Espace Johannis
DESCRIPTION:
SUMMARY:Grand débat: Limiter l&rsquo\;immigration?
ORGANIZER:
URL;VALUE=URI:https://www.udc.ch/actualites/agenda/grand-debat-limiter-limmigration/
TRANSP:OPAQUE
END:VEVENT
END:VCALENDAR
