

BEGIN:VCALENDAR
VERSION:2.0
PRODID:-//UDC Suisse //NONSGML Events //EN
CALSCALE:GREGORIAN
X-WR-CALNAME:UDC Suisse
BEGIN:VEVENT
CREATED:20200923T064302Z
UID:94092
DTEND:20200929T200000
DTSTART:20200929T193000
DTSTAMP:20260421T023522Z
LOCATION:Domaines des Sieurs\, Famille Jean-Marc Sordet\, Chemin des Combes 9\, 1184 Luins
DESCRIPTION:
SUMMARY:UDC proche de vous avec le conseiller national Jean-Pierre Grin
ORGANIZER:
URL;VALUE=URI:https://www.udc.ch/actualites/agenda/udc-proche-de-vous-avec-le-conseiller-national-jean-pierre-grin/
TRANSP:OPAQUE
END:VEVENT
END:VCALENDAR
