

BEGIN:VCALENDAR
VERSION:2.0
PRODID:-//UDC Suisse //NONSGML Events //EN
CALSCALE:GREGORIAN
X-WR-CALNAME:UDC Suisse
BEGIN:VEVENT
CREATED:20201012T040858Z
UID:94132
DTEND:20201231T000000
DTSTART:20201231T000000
DTSTAMP:20260420T193609Z
LOCATION:Zürich
DESCRIPTION:
SUMMARY:Muster
ORGANIZER:
URL;VALUE=URI:https://www.udc.ch/actualites/agenda/muster/
TRANSP:OPAQUE
END:VEVENT
END:VCALENDAR
