

BEGIN:VCALENDAR
VERSION:2.0
PRODID:-//UDC Suisse //NONSGML Events //EN
CALSCALE:GREGORIAN
X-WR-CALNAME:UDC Suisse
BEGIN:VEVENT
CREATED:20201012T040858Z
UID:94133
DTEND:20210109T000000
DTSTART:20210108T000000
DTSTAMP:20260423T090802Z
LOCATION:Horn TG
DESCRIPTION:
SUMMARY:Séminaire « Bad Horn »
ORGANIZER:
URL;VALUE=URI:https://www.udc.ch/actualites/agenda/seminaire-bad-horn-7/
TRANSP:OPAQUE
END:VEVENT
END:VCALENDAR
