

BEGIN:VCALENDAR
VERSION:2.0
PRODID:-//UDC Suisse //NONSGML Events //EN
CALSCALE:GREGORIAN
X-WR-CALNAME:UDC Suisse
BEGIN:VEVENT
CREATED:20201012T040858Z
UID:94134
DTEND:20210129T000000
DTSTART:20210129T000000
DTSTAMP:20260420T194507Z
LOCATION:
DESCRIPTION:
SUMMARY:Comité directeur / Comité du parti avec secrétaires
ORGANIZER:
URL;VALUE=URI:https://www.udc.ch/actualites/agenda/comite-directeur-comite-du-parti-avec-secretaires/
TRANSP:OPAQUE
END:VEVENT
END:VCALENDAR
