

BEGIN:VCALENDAR
VERSION:2.0
PRODID:-//UDC Suisse //NONSGML Events //EN
CALSCALE:GREGORIAN
X-WR-CALNAME:UDC Suisse
BEGIN:VEVENT
CREATED:20201012T040859Z
UID:94135
DTEND:20210130T000000
DTSTART:20210130T000000
DTSTAMP:20260420T214450Z
LOCATION:online
DESCRIPTION:nouveau online, plus d'infos à suivre
SUMMARY:Assemblée des délégués
ORGANIZER:
URL;VALUE=URI:https://www.udc.ch/actualites/agenda/assemblee-des-delegues-32/
TRANSP:OPAQUE
END:VEVENT
END:VCALENDAR
