

BEGIN:VCALENDAR
VERSION:2.0
PRODID:-//UDC Suisse //NONSGML Events //EN
CALSCALE:GREGORIAN
X-WR-CALNAME:UDC Suisse
BEGIN:VEVENT
CREATED:20201012T040859Z
UID:94137
DTEND:20210120T000000
DTSTART:20210120T000000
DTSTAMP:20260421T131605Z
LOCATION:
DESCRIPTION:
SUMMARY:Séance du groupe
ORGANIZER:
URL;VALUE=URI:https://www.udc.ch/actualites/agenda/seance-du-groupe-18/
TRANSP:OPAQUE
END:VEVENT
END:VCALENDAR
