

BEGIN:VCALENDAR
VERSION:2.0
PRODID:-//UDC Suisse //NONSGML Events //EN
CALSCALE:GREGORIAN
X-WR-CALNAME:UDC Suisse
BEGIN:VEVENT
CREATED:20201012T040859Z
UID:94139
DTEND:20210319T000000
DTSTART:20210301T000000
DTSTAMP:20260421T112831Z
LOCATION:Berne
DESCRIPTION:
SUMMARY:Session de printemps
ORGANIZER:
URL;VALUE=URI:https://www.udc.ch/actualites/agenda/session-de-printemps-6/
TRANSP:OPAQUE
END:VEVENT
END:VCALENDAR
