

BEGIN:VCALENDAR
VERSION:2.0
PRODID:-//UDC Suisse //NONSGML Events //EN
CALSCALE:GREGORIAN
X-WR-CALNAME:UDC Suisse
BEGIN:VEVENT
CREATED:20201012T040859Z
UID:94141
DTEND:20210307T000000
DTSTART:20210307T000000
DTSTAMP:20260421T112751Z
LOCATION:
DESCRIPTION:
SUMMARY:Votations fédérales du 7 mars 2021
ORGANIZER:
URL;VALUE=URI:https://www.udc.ch/actualites/agenda/votations-federales-13/
TRANSP:OPAQUE
END:VEVENT
END:VCALENDAR
