

BEGIN:VCALENDAR
VERSION:2.0
PRODID:-//UDC Suisse //NONSGML Events //EN
CALSCALE:GREGORIAN
X-WR-CALNAME:UDC Suisse
BEGIN:VEVENT
CREATED:20201012T040900Z
UID:94143
DTEND:20210309T000000
DTSTART:20210309T000000
DTSTAMP:20260421T094148Z
LOCATION:
DESCRIPTION:
SUMMARY:Rencontre du groupe avec les présidents de groupe
ORGANIZER:
URL;VALUE=URI:https://www.udc.ch/actualites/agenda/rencontre-du-groupe-avec-les-presidents-de-groupe/
TRANSP:OPAQUE
END:VEVENT
END:VCALENDAR
