

BEGIN:VCALENDAR
VERSION:2.0
PRODID:-//UDC Suisse //NONSGML Events //EN
CALSCALE:GREGORIAN
X-WR-CALNAME:UDC Suisse
BEGIN:VEVENT
CREATED:20201012T040901Z
UID:94149
DTEND:20210507T000000
DTSTART:20210503T000000
DTSTAMP:20260420T171747Z
LOCATION:
DESCRIPTION:
SUMMARY:ev. Session spéciale
ORGANIZER:
URL;VALUE=URI:https://www.udc.ch/actualites/agenda/ev-session-speciale-7/
TRANSP:OPAQUE
END:VEVENT
END:VCALENDAR
