

BEGIN:VCALENDAR
VERSION:2.0
PRODID:-//UDC Suisse //NONSGML Events //EN
CALSCALE:GREGORIAN
X-WR-CALNAME:UDC Suisse
BEGIN:VEVENT
CREATED:20201012T040901Z
UID:94150
DTEND:20210508T000000
DTSTART:20210508T000000
DTSTAMP:20260420T225400Z
LOCATION:Zurich
DESCRIPTION:
SUMMARY:Rencontre avec les conseillers d&rsquo\;Etat
ORGANIZER:
URL;VALUE=URI:https://www.udc.ch/actualites/agenda/rencontre-avec-les-conseillers-detat-6/
TRANSP:OPAQUE
END:VEVENT
END:VCALENDAR
