

BEGIN:VCALENDAR
VERSION:2.0
PRODID:-//UDC Suisse //NONSGML Events //EN
CALSCALE:GREGORIAN
X-WR-CALNAME:UDC Suisse
BEGIN:VEVENT
CREATED:20201012T040901Z
UID:94152
DTEND:20210522T000000
DTSTART:20210522T000000
DTSTAMP:20260421T003952Z
LOCATION:Berne
DESCRIPTION:
SUMMARY:Séance du groupe
ORGANIZER:
URL;VALUE=URI:https://www.udc.ch/actualites/agenda/seance-du-groupe-22/
TRANSP:OPAQUE
END:VEVENT
END:VCALENDAR
