

BEGIN:VCALENDAR
VERSION:2.0
PRODID:-//UDC Suisse //NONSGML Events //EN
CALSCALE:GREGORIAN
X-WR-CALNAME:UDC Suisse
BEGIN:VEVENT
CREATED:20201012T040903Z
UID:94157
DTEND:20210613T000000
DTSTART:20210613T000000
DTSTAMP:20260420T194358Z
LOCATION:
DESCRIPTION:
SUMMARY:Votations fédérales du 13 juin 2021
ORGANIZER:
URL;VALUE=URI:https://www.udc.ch/actualites/agenda/votations-federales-16/
TRANSP:OPAQUE
END:VEVENT
END:VCALENDAR
