

BEGIN:VCALENDAR
VERSION:2.0
PRODID:-//UDC Suisse //NONSGML Events //EN
CALSCALE:GREGORIAN
X-WR-CALNAME:UDC Suisse
BEGIN:VEVENT
CREATED:20201012T040903Z
UID:94158
DTEND:20210615T000000
DTSTART:20210615T000000
DTSTAMP:20260420T213840Z
LOCATION:Berne
DESCRIPTION:
SUMMARY:ev. Séance du groupe
ORGANIZER:
URL;VALUE=URI:https://www.udc.ch/actualites/agenda/ev-seance-du-groupe-26/
TRANSP:OPAQUE
END:VEVENT
END:VCALENDAR
