

BEGIN:VCALENDAR
VERSION:2.0
PRODID:-//UDC Suisse //NONSGML Events //EN
CALSCALE:GREGORIAN
X-WR-CALNAME:UDC Suisse
BEGIN:VEVENT
CREATED:20201012T040903Z
UID:94159
DTEND:20210821T000000
DTSTART:20210821T000000
DTSTAMP:20260420T214305Z
LOCATION:Fribourg
DESCRIPTION:
SUMMARY:Assemblée générale UDC International
ORGANIZER:
URL;VALUE=URI:https://www.udc.ch/actualites/agenda/assemblee-generale-udc-international-3/
TRANSP:OPAQUE
END:VEVENT
END:VCALENDAR
