

BEGIN:VCALENDAR
VERSION:2.0
PRODID:-//UDC Suisse //NONSGML Events //EN
CALSCALE:GREGORIAN
X-WR-CALNAME:UDC Suisse
BEGIN:VEVENT
CREATED:20201012T041543Z
UID:94165
DTEND:20210911T000000
DTSTART:20210910T000000
DTSTAMP:20260420T134612Z
LOCATION:
DESCRIPTION:
SUMMARY:Conférence des présidents\; présidents de groupe et  secrétaires cantonaux
ORGANIZER:
URL;VALUE=URI:https://www.udc.ch/actualites/agenda/conference-des-presidents-presidents-de-groupe-et-secretaires-cantonaux-6/
TRANSP:OPAQUE
END:VEVENT
END:VCALENDAR
