

BEGIN:VCALENDAR
VERSION:2.0
PRODID:-//UDC Suisse //NONSGML Events //EN
CALSCALE:GREGORIAN
X-WR-CALNAME:UDC Suisse
BEGIN:VEVENT
CREATED:20201012T041543Z
UID:94167
DTEND:20210914T000000
DTSTART:20210914T000000
DTSTAMP:20260421T061223Z
LOCATION:Berne
DESCRIPTION:
SUMMARY:Comité du groupe / Séance du groupe
ORGANIZER:
URL;VALUE=URI:https://www.udc.ch/actualites/agenda/comite-du-groupe-seance-du-groupe-60/
TRANSP:OPAQUE
END:VEVENT
END:VCALENDAR
