

BEGIN:VCALENDAR
VERSION:2.0
PRODID:-//UDC Suisse //NONSGML Events //EN
CALSCALE:GREGORIAN
X-WR-CALNAME:UDC Suisse
BEGIN:VEVENT
CREATED:20201012T041543Z
UID:94168
DTEND:20210921T000000
DTSTART:20210921T000000
DTSTAMP:20260421T094711Z
LOCATION:Berne
DESCRIPTION:
SUMMARY:Séance du groupe
ORGANIZER:
URL;VALUE=URI:https://www.udc.ch/actualites/agenda/seance-du-groupe-25/
TRANSP:OPAQUE
END:VEVENT
END:VCALENDAR
