

BEGIN:VCALENDAR
VERSION:2.0
PRODID:-//UDC Suisse //NONSGML Events //EN
CALSCALE:GREGORIAN
X-WR-CALNAME:UDC Suisse
BEGIN:VEVENT
CREATED:20201012T041543Z
UID:94169
DTEND:20210926T000000
DTSTART:20210926T000000
DTSTAMP:20260420T191442Z
LOCATION:
DESCRIPTION:
SUMMARY:Votations fédérales
ORGANIZER:
URL;VALUE=URI:https://www.udc.ch/actualites/agenda/votations-federales-17/
TRANSP:OPAQUE
END:VEVENT
END:VCALENDAR
