

BEGIN:VCALENDAR
VERSION:2.0
PRODID:-//UDC Suisse //NONSGML Events //EN
CALSCALE:GREGORIAN
X-WR-CALNAME:UDC Suisse
BEGIN:VEVENT
CREATED:20201012T041544Z
UID:94175
DTEND:20211128T000000
DTSTART:20211128T000000
DTSTAMP:20260420T194408Z
LOCATION:
DESCRIPTION:
SUMMARY:Votations fédérales du 28 novembre 2021
ORGANIZER:
URL;VALUE=URI:https://www.udc.ch/actualites/agenda/votations-federales-18/
TRANSP:OPAQUE
END:VEVENT
END:VCALENDAR
