

BEGIN:VCALENDAR
VERSION:2.0
PRODID:-//UDC Suisse //NONSGML Events //EN
CALSCALE:GREGORIAN
X-WR-CALNAME:UDC Suisse
BEGIN:VEVENT
CREATED:20201012T041544Z
UID:94176
DTEND:20211217T000000
DTSTART:20211129T000000
DTSTAMP:20260420T194223Z
LOCATION:Berne
DESCRIPTION:
SUMMARY:Session d’hiver
ORGANIZER:
URL;VALUE=URI:https://www.udc.ch/actualites/agenda/session-dhiver-7/
TRANSP:OPAQUE
END:VEVENT
END:VCALENDAR
