

BEGIN:VCALENDAR
VERSION:2.0
PRODID:-//UDC Suisse //NONSGML Events //EN
CALSCALE:GREGORIAN
X-WR-CALNAME:UDC Suisse
BEGIN:VEVENT
CREATED:20201012T041545Z
UID:94179
DTEND:20211208T000000
DTSTART:20211208T000000
DTSTAMP:20260421T023919Z
LOCATION:Berne
DESCRIPTION:
SUMMARY:Repas du groupe
ORGANIZER:
URL;VALUE=URI:https://www.udc.ch/actualites/agenda/repas-du-groupe-7/
TRANSP:OPAQUE
END:VEVENT
END:VCALENDAR
