

BEGIN:VCALENDAR
VERSION:2.0
PRODID:-//UDC Suisse //NONSGML Events //EN
CALSCALE:GREGORIAN
X-WR-CALNAME:UDC Suisse
BEGIN:VEVENT
CREATED:20201012T041545Z
UID:94180
DTEND:20211214T000000
DTSTART:20211214T000000
DTSTAMP:20260421T004122Z
LOCATION:Berne
DESCRIPTION:
SUMMARY:ev. Séance du groupe
ORGANIZER:
URL;VALUE=URI:https://www.udc.ch/actualites/agenda/ev-seance-du-groupe-28/
TRANSP:OPAQUE
END:VEVENT
END:VCALENDAR
