

BEGIN:VCALENDAR
VERSION:2.0
PRODID:-//UDC Suisse //NONSGML Events //EN
CALSCALE:GREGORIAN
X-WR-CALNAME:UDC Suisse
BEGIN:VEVENT
CREATED:20210617T130138Z
UID:95391
DTEND:20210622T200000
DTSTART:20210622T193000
DTSTAMP:20260420T213558Z
LOCATION:
DESCRIPTION:22.06.2021; 19:30 =&gt; été déplacée au jeudi 1er juillet à 20:00
SUMMARY:L&rsquo\;UDC proche de vous
ORGANIZER:
URL;VALUE=URI:https://www.udc.ch/actualites/agenda/95391/
TRANSP:OPAQUE
END:VEVENT
END:VCALENDAR
