

BEGIN:VCALENDAR
VERSION:2.0
PRODID:-//UDC Suisse //NONSGML Events //EN
CALSCALE:GREGORIAN
X-WR-CALNAME:UDC Suisse
BEGIN:VEVENT
CREATED:20210730T123804Z
UID:95699
DTEND:20210801T000000
DTSTART:20210801T193000
DTSTAMP:20260421T061233Z
LOCATION:Büntenstrasse 209\, Dorfteil Etzgen\, Mettauertal (AG)
DESCRIPTION:
SUMMARY:Fête du 1er août avec le Conseiller aux Etats Hansjörg Knecht
ORGANIZER:
URL;VALUE=URI:https://www.udc.ch/actualites/agenda/fete-du-1er-aout-avec-le-conseiller-aux-etats-hansjorg-knecht/
TRANSP:OPAQUE
END:VEVENT
END:VCALENDAR
