

BEGIN:VCALENDAR
VERSION:2.0
PRODID:-//UDC Suisse //NONSGML Events //EN
CALSCALE:GREGORIAN
X-WR-CALNAME:UDC Suisse
BEGIN:VEVENT
CREATED:20210730T123924Z
UID:95701
DTEND:20210801T120000
DTSTART:20210801T103000
DTSTAMP:20260421T042343Z
LOCATION:Dorfplatz\, Menziken (AG)
DESCRIPTION:
SUMMARY:Fête du 1er août avec le Conseiller aux National Benjamin Giezendanner
ORGANIZER:
URL;VALUE=URI:https://www.udc.ch/actualites/agenda/fete-du-1er-aout-avec-le-conseiller-aux-national-benjamin-giezendanner/
TRANSP:OPAQUE
END:VEVENT
END:VCALENDAR
