

BEGIN:VCALENDAR
VERSION:2.0
PRODID:-//UDC Suisse //NONSGML Events //EN
CALSCALE:GREGORIAN
X-WR-CALNAME:UDC Suisse
BEGIN:VEVENT
CREATED:20210730T124111Z
UID:95703
DTEND:20210801T220000
DTSTART:20210801T200000
DTSTAMP:20260420T172055Z
LOCATION:01.08.2021\; 20h00 Schulareal\, Gansingen (AG)
DESCRIPTION:
SUMMARY:Fête du 1er août avec le Conseiller National Benjamin Giezendanner
ORGANIZER:
URL;VALUE=URI:https://www.udc.ch/actualites/agenda/fete-du-1er-aout-avec-le-conseiller-national-benjamin-giezendanner/
TRANSP:OPAQUE
END:VEVENT
END:VCALENDAR
