

BEGIN:VCALENDAR
VERSION:2.0
PRODID:-//UDC Suisse //NONSGML Events //EN
CALSCALE:GREGORIAN
X-WR-CALNAME:UDC Suisse
BEGIN:VEVENT
CREATED:20210730T124257Z
UID:95705
DTEND:20210801T220000
DTSTART:20210801T203000
DTSTAMP:20260420T214028Z
LOCATION:Fornholz\, Seon (AG)
DESCRIPTION:
SUMMARY:Fête du 1er août avec le Conseiller National Andreas Glarner
ORGANIZER:
URL;VALUE=URI:https://www.udc.ch/actualites/agenda/fete-du-1er-aout-avec-le-conseiller-national-andreas-glarner/
TRANSP:OPAQUE
END:VEVENT
END:VCALENDAR
