

BEGIN:VCALENDAR
VERSION:2.0
PRODID:-//UDC Suisse //NONSGML Events //EN
CALSCALE:GREGORIAN
X-WR-CALNAME:UDC Suisse
BEGIN:VEVENT
CREATED:20210730T124520Z
UID:95707
DTEND:20210801T130000
DTSTART:20210801T110000
DTSTAMP:20260421T131604Z
LOCATION:Troupe SWISSCOY\, Kosovo (étranger)
DESCRIPTION:
SUMMARY:Fête du 1er août avec le Conseiller Nationale Stefanie Heimgartner
ORGANIZER:
URL;VALUE=URI:https://www.udc.ch/actualites/agenda/fete-du-1er-aout-avec-le-conseiller-nationale-stefanie-heimgartner/
TRANSP:OPAQUE
END:VEVENT
END:VCALENDAR
