

BEGIN:VCALENDAR
VERSION:2.0
PRODID:-//UDC Suisse //NONSGML Events //EN
CALSCALE:GREGORIAN
X-WR-CALNAME:UDC Suisse
BEGIN:VEVENT
CREATED:20210730T124725Z
UID:95709
DTEND:20210801T190000
DTSTART:20210801T190000
DTSTAMP:20260420T194657Z
LOCATION:Troupe EUFOR\, Bosnie (étranger)
DESCRIPTION:
SUMMARY:Fête du 1er août avec le Conseiller Nationale Stefanie Heimgartner
ORGANIZER:
URL;VALUE=URI:https://www.udc.ch/actualites/agenda/fete-du-1er-aout-avec-le-conseiller-nationale-stefanie-heimgartner-2/
TRANSP:OPAQUE
END:VEVENT
END:VCALENDAR
