

BEGIN:VCALENDAR
VERSION:2.0
PRODID:-//UDC Suisse //NONSGML Events //EN
CALSCALE:GREGORIAN
X-WR-CALNAME:UDC Suisse
BEGIN:VEVENT
CREATED:20210730T124849Z
UID:95711
DTEND:20210801T220000
DTSTART:20210801T191000
DTSTAMP:20260421T061328Z
LOCATION:Festplatz\, Birrhard (AG)
DESCRIPTION:
SUMMARY:Fête du 1er août avec le Conseiller National Alois Huber
ORGANIZER:
URL;VALUE=URI:https://www.udc.ch/actualites/agenda/fete-du-1er-aout-avec-le-conseiller-national-alois-huber/
TRANSP:OPAQUE
END:VEVENT
END:VCALENDAR
