

BEGIN:VCALENDAR
VERSION:2.0
PRODID:-//UDC Suisse //NONSGML Events //EN
CALSCALE:GREGORIAN
X-WR-CALNAME:UDC Suisse
BEGIN:VEVENT
CREATED:20210730T125111Z
UID:95713
DTEND:20210731T180000
DTSTART:20210731T120000
DTSTAMP:20260421T061326Z
LOCATION:Ferme Vitagneau\, Ch. le Moulin 7\, Cheyres (FR)
DESCRIPTION:
SUMMARY:Fête du 1er août avec le Conseiller National Pierre-André Page
ORGANIZER:
URL;VALUE=URI:https://www.udc.ch/actualites/agenda/fete-du-1er-aout-avec-le-conseiller-national-pierre-andre-page/
TRANSP:OPAQUE
END:VEVENT
END:VCALENDAR
