

BEGIN:VCALENDAR
VERSION:2.0
PRODID:-//UDC Suisse //NONSGML Events //EN
CALSCALE:GREGORIAN
X-WR-CALNAME:UDC Suisse
BEGIN:VEVENT
CREATED:20210730T130630Z
UID:95718
DTEND:20210730T230000
DTSTART:20210801T203000
DTSTAMP:20260421T042533Z
LOCATION:Pl. Village\, Chevroux (VD)
DESCRIPTION:
SUMMARY:Fête du 1er août avec le Conseiller National Pierre-André Page
ORGANIZER:
URL;VALUE=URI:https://www.udc.ch/actualites/agenda/fete-du-1er-aout-avec-le-conseiller-national-pierre-andre-page-3/
TRANSP:OPAQUE
END:VEVENT
END:VCALENDAR
