

BEGIN:VCALENDAR
VERSION:2.0
PRODID:-//UDC Suisse //NONSGML Events //EN
CALSCALE:GREGORIAN
X-WR-CALNAME:UDC Suisse
BEGIN:VEVENT
CREATED:20210730T130807Z
UID:95720
DTEND:20210801T220000
DTSTART:20210801T193000
DTSTAMP:20260420T225500Z
LOCATION:auf dem St. Jodel\, Ins (BE)
DESCRIPTION:
SUMMARY:Fête du 1er août avec le Conseillère Nationale Nadia Umbricht Pieren
ORGANIZER:
URL;VALUE=URI:https://www.udc.ch/actualites/agenda/fete-du-1er-aout-avec-le-conseillere-nationale-nadia-umbricht-pieren/
TRANSP:OPAQUE
END:VEVENT
END:VCALENDAR
