

BEGIN:VCALENDAR
VERSION:2.0
PRODID:-//UDC Suisse //NONSGML Events //EN
CALSCALE:GREGORIAN
X-WR-CALNAME:UDC Suisse
BEGIN:VEVENT
CREATED:20210730T131155Z
UID:95726
DTEND:20210801T160000
DTSTART:20210801T113000
DTSTAMP:20260423T091011Z
LOCATION:Schulhausstrasse 13\, Wimmis (BE)
DESCRIPTION:
SUMMARY:Fête du 1er août avec le Conseiller aux Etats Werner Salzmann
ORGANIZER:
URL;VALUE=URI:https://www.udc.ch/actualites/agenda/fete-du-1er-aout-avec-le-conseiller-aux-etats-werner-salzmann-2/
TRANSP:OPAQUE
END:VEVENT
END:VCALENDAR
