

BEGIN:VCALENDAR
VERSION:2.0
PRODID:-//UDC Suisse //NONSGML Events //EN
CALSCALE:GREGORIAN
X-WR-CALNAME:UDC Suisse
BEGIN:VEVENT
CREATED:20210730T132017Z
UID:95736
DTEND:20210801T230000
DTSTART:20210801T203000
DTSTAMP:20260421T042333Z
LOCATION:Bodenhausplatz in Splügen\, Rheinwald (GR)
DESCRIPTION:
SUMMARY:Fête du 1er août avec le Conseillère Nationale Magdalena Martullo-Blocher
ORGANIZER:
URL;VALUE=URI:https://www.udc.ch/actualites/agenda/fete-du-1er-aout-avec-le-conseillere-nationale-magdalena-martullo-blocher/
TRANSP:OPAQUE
END:VEVENT
END:VCALENDAR
